BEGIN:VCALENDAR
VERSION:2.0
PRODID:-//ChamberMaster//Event Calendar 2.0//EN
METHOD:PUBLISH
X-PUBLISHED-TTL:P3D
REFRESH-INTERVAL:P3D
CALSCALE:GREGORIAN
BEGIN:VEVENT
DTSTART;VALUE=DATE:20260814
DTEND;VALUE=DATE:20260816
TRANSP:TRANSPARENT
X-MICROSOFT-CDO-ALLDAYEVENT:TRUE
SUMMARY:Nisswa Crazy Days 2026
DESCRIPTION:Come for some great deals and enjoy a little craziness.
X-ALT-DESC;FMTTYPE=text/html:Come for some great deals and enjoy a little craziness.
LOCATION:Main Street Nisswa
UID:e.34.55570
SEQUENCE:3
DTSTAMP:20260424T220834Z
URL:https://gzintegration.nisswa.com/events/details/nisswa-crazy-days-2026-55570
END:VEVENT

END:VCALENDAR
